BEGIN:VCALENDAR
VERSION:2.0
PRODID:-//bonasoft.pl//NONSGML Spotkanie Sieci//EN
CALSCALE:GREGORIAN
METHOD:PUBLISH
BEGIN:VEVENT
UID:20260422T135735-392481655uid
DISTAMP:20260422T135735
DTSTART:20210210T140000Z
DTEND:20210210T160000Z
LOCATION:Online
SUMMARY:Spotkanie Sieci
DESCRIPTION:Spotkanie Sieci
END:VEVENT
END:VCALENDAR
