BEGIN:VCALENDAR
VERSION:2.0
PRODID:-//bonasoft.pl//NONSGML Książka receptą na wyciszenie emocji – warsztaty online//EN
CALSCALE:GREGORIAN
METHOD:PUBLISH
BEGIN:VEVENT
UID:20260422T125438-1650511584uid
DISTAMP:20260422T125438
DTSTART:20210224T090000Z
DTEND:20210224T120000Z
LOCATION:Warsztaty będą realizowane z wykorzystaniem platformy ClickMeeting. Zalecana jest przeglądarka Chrome.
SUMMARY:Książka receptą na wyciszenie emocji – warsztaty online
DESCRIPTION:Książka receptą na wyciszenie emocji – warsztaty online
END:VEVENT
END:VCALENDAR
