BEGIN:VCALENDAR
VERSION:2.0
PRODID:-//bonasoft.pl//NONSGML JAK DBAĆ O ZBIORY BIBLIOTECZNE – warsztaty online//EN
CALSCALE:GREGORIAN
METHOD:PUBLISH
BEGIN:VEVENT
UID:20260422T125039-84235005uid
DISTAMP:20260422T125039
DTSTART:20210309T090000Z
DTEND:20210309T120000Z
LOCATION:Warsztaty będą realizowane z wykorzystaniem platformy ClickMeeting. Zalecana jest przeglądarka Chrome.
SUMMARY:JAK DBAĆ O ZBIORY BIBLIOTECZNE – warsztaty online
DESCRIPTION:JAK DBAĆ O ZBIORY BIBLIOTECZNE – warsztaty online
END:VEVENT
END:VCALENDAR
