BEGIN:VCALENDAR
VERSION:2.0
PRODID:-//bonasoft.pl//NONSGML MODA ZNA CZYTANIE//EN
CALSCALE:GREGORIAN
METHOD:PUBLISH
BEGIN:VEVENT
UID:20260422T121902-1091129075uid
DISTAMP:20260422T121902
DTSTART:20210421T073000Z
DTEND:20210421T100000Z
LOCATION:Warsztaty będą realizowane z wykorzystaniem platformy ClickMeeting. Zalecana jest przeglądarka Chrome.
SUMMARY:MODA ZNA CZYTANIE
DESCRIPTION:MODA ZNA CZYTANIE
END:VEVENT
END:VCALENDAR
