BEGIN:VCALENDAR
VERSION:2.0
PRODID:-//bonasoft.pl//NONSGML EXCEL FORMUŁY PRZYDATNE DLA NAUCZYCIELI//EN
CALSCALE:GREGORIAN
METHOD:PUBLISH
BEGIN:VEVENT
UID:20260422T135548-1004327978uid
DISTAMP:20260422T135548
DTSTART:20210422T100000Z
DTEND:20210422T120000Z
LOCATION:Warsztaty będą realizowane z wykorzystaniem platformy ClickMeeting. Zalecana jest przeglądarka Chrome.
SUMMARY:EXCEL FORMUŁY PRZYDATNE DLA NAUCZYCIELI
DESCRIPTION:EXCEL FORMUŁY PRZYDATNE DLA NAUCZYCIELI
END:VEVENT
END:VCALENDAR
