BEGIN:VCALENDAR
VERSION:2.0
PRODID:-//bonasoft.pl//NONSGML EWIDENCJA MATERIAŁÓW BIBLIOTECZNYCH – webinar//EN
CALSCALE:GREGORIAN
METHOD:PUBLISH
BEGIN:VEVENT
UID:20260422T130743-1863652589uid
DISTAMP:20260422T130743
DTSTART:20210428T090000Z
DTEND:20210428T110000Z
LOCATION:Warsztaty będą realizowane z wykorzystaniem platformy ClickMeeting. Zalecana jest przeglądarka Chrome.
SUMMARY:EWIDENCJA MATERIAŁÓW BIBLIOTECZNYCH – webinar
DESCRIPTION:EWIDENCJA MATERIAŁÓW BIBLIOTECZNYCH – webinar
END:VEVENT
END:VCALENDAR
