BEGIN:VCALENDAR
VERSION:2.0
PRODID:-//bonasoft.pl//NONSGML EXCEL WYKRESY//EN
CALSCALE:GREGORIAN
METHOD:PUBLISH
BEGIN:VEVENT
UID:20260422T110837-237901812uid
DISTAMP:20260422T110837
DTSTART:20210429T100000Z
DTEND:20210429T120000Z
LOCATION:Warsztaty będą realizowane z wykorzystaniem platformy ClickMeeting. Zalecana jest przeglądarka Chrome.
SUMMARY:EXCEL WYKRESY
DESCRIPTION:EXCEL WYKRESY
END:VEVENT
END:VCALENDAR
