BEGIN:VCALENDAR
VERSION:2.0
PRODID:-//bonasoft.pl//NONSGML Biblioteka Pirackich Tropów//EN
CALSCALE:GREGORIAN
METHOD:PUBLISH
BEGIN:VEVENT
UID:20260422T103848-174250665uid
DISTAMP:20260422T103848
DTSTART:20210511T070000Z
DTEND:20210511T123000Z
LOCATION:Online
SUMMARY:Biblioteka Pirackich Tropów
DESCRIPTION:Biblioteka Pirackich Tropów
END:VEVENT
END:VCALENDAR
