BEGIN:VCALENDAR
VERSION:2.0
PRODID:-//bonasoft.pl//NONSGML Spotkanie Sieci Współpracy i Samokształcenia//EN
CALSCALE:GREGORIAN
METHOD:PUBLISH
BEGIN:VEVENT
UID:20260422T110849-2094553417uid
DISTAMP:20260422T110849
DTSTART:20210526T070000Z
DTEND:20210526T100000Z
LOCATION:Online
SUMMARY:Spotkanie Sieci Współpracy i Samokształcenia
DESCRIPTION:Spotkanie Sieci Współpracy i Samokształcenia
END:VEVENT
END:VCALENDAR
