BEGIN:VCALENDAR
VERSION:2.0
PRODID:-//bonasoft.pl//NONSGML Sieć współpracy i samokształcenia nauczycieli bibliotekarzy szkolnych Rozczytani//EN
CALSCALE:GREGORIAN
METHOD:PUBLISH
BEGIN:VEVENT
UID:20260422T110927-6719843uid
DISTAMP:20260422T110927
DTSTART:20210922T100000Z
DTEND:20210922T130000Z
LOCATION:Filia w Grodzisku Mazowieckim
SUMMARY:Sieć współpracy i samokształcenia nauczycieli bibliotekarzy szkolnych Rozczytani
DESCRIPTION:Sieć współpracy i samokształcenia nauczycieli bibliotekarzy szkolnych Rozczytani
END:VEVENT
END:VCALENDAR
