BEGIN:VCALENDAR
VERSION:2.0
PRODID:-//bonasoft.pl//NONSGML Matematyka dla przedszkolaka//EN
CALSCALE:GREGORIAN
METHOD:PUBLISH
BEGIN:VEVENT
UID:20260422T080644-730347219uid
DISTAMP:20260422T080644
DTSTART:20211021T070000Z
DTEND:20211021T090000Z
LOCATION:Warszawa, ul. Gocławska 4 (sala 320)
SUMMARY:Matematyka dla przedszkolaka
DESCRIPTION:Matematyka dla przedszkolaka
END:VEVENT
END:VCALENDAR
