BEGIN:VCALENDAR
VERSION:2.0
PRODID:-//bonasoft.pl//NONSGML Pląsy i zabawy integracyjne w pracy z dziećmi//EN
CALSCALE:GREGORIAN
METHOD:PUBLISH
BEGIN:VEVENT
UID:20260422T080158-142112279uid
DISTAMP:20260422T080158
DTSTART:20211027T080000Z
DTEND:20211027T100000Z
LOCATION:Warszawa, ul. Gocławska 4 (sala 320)
SUMMARY:Pląsy i zabawy integracyjne w pracy z dziećmi
DESCRIPTION:Pląsy i zabawy integracyjne w pracy z dziećmi
END:VEVENT
END:VCALENDAR
