BEGIN:VCALENDAR
VERSION:2.0
PRODID:-//bonasoft.pl//NONSGML Spotkanie on-line z Martinem Widmarkiem//EN
CALSCALE:GREGORIAN
METHOD:PUBLISH
BEGIN:VEVENT
UID:20260422T080030-1032673148uid
DISTAMP:20260422T080030
DTSTART:20211028T180000Z
DTEND:20211028T200000Z
LOCATION:Online
SUMMARY:Spotkanie on-line z Martinem Widmarkiem
DESCRIPTION:Spotkanie on-line z Martinem Widmarkiem
END:VEVENT
END:VCALENDAR
