BEGIN:VCALENDAR
VERSION:2.0
PRODID:-//bonasoft.pl//NONSGML Biblioteka, to nie tylko książki… na planszówki do szkolnej biblioteki//EN
CALSCALE:GREGORIAN
METHOD:PUBLISH
BEGIN:VEVENT
UID:20260422T092023-1631119857uid
DISTAMP:20260422T092023
DTSTART:20211103T100000Z
DTEND:20211103T120000Z
LOCATION:Nowy Dwór Mazowiecki, ul. Mazowiecka 8
SUMMARY:Biblioteka, to nie tylko książki… na planszówki do szkolnej biblioteki
DESCRIPTION:Biblioteka, to nie tylko książki… na planszówki do szkolnej biblioteki
END:VEVENT
END:VCALENDAR
