BEGIN:VCALENDAR
VERSION:2.0
PRODID:-//bonasoft.pl//NONSGML II spotkanie Sieci Współpracy i Samokształcenia Nauczycieli Bibliotekarzy//EN
CALSCALE:GREGORIAN
METHOD:PUBLISH
BEGIN:VEVENT
UID:20260422T061107-18772316uid
DISTAMP:20260422T061107
DTSTART:20211124T083000Z
DTEND:20211124T120000Z
LOCATION:Online
SUMMARY:II spotkanie Sieci Współpracy i Samokształcenia Nauczycieli Bibliotekarzy
DESCRIPTION:II spotkanie Sieci Współpracy i Samokształcenia Nauczycieli Bibliotekarzy
END:VEVENT
END:VCALENDAR
