BEGIN:VCALENDAR
VERSION:2.0
PRODID:-//bonasoft.pl//NONSGML PRZEMIJANIE – NAJWAŻNIEJSZE PYTANIA, NAJTRUDNIEJSZE POŻEGNANIA//EN
CALSCALE:GREGORIAN
METHOD:PUBLISH
BEGIN:VEVENT
UID:20260422T061334-1488528982uid
DISTAMP:20260422T061334
DTSTART:20211124T090000Z
DTEND:20211124T130000Z
LOCATION:Online
SUMMARY:PRZEMIJANIE – NAJWAŻNIEJSZE PYTANIA, NAJTRUDNIEJSZE POŻEGNANIA
DESCRIPTION:PRZEMIJANIE – NAJWAŻNIEJSZE PYTANIA, NAJTRUDNIEJSZE POŻEGNANIA
END:VEVENT
END:VCALENDAR
