BEGIN:VCALENDAR
VERSION:2.0
PRODID:-//bonasoft.pl//NONSGML EXCEL WYKRESY//EN
CALSCALE:GREGORIAN
METHOD:PUBLISH
BEGIN:VEVENT
UID:20260422T061630-1866240744uid
DISTAMP:20260422T061630
DTSTART:20211125T110000Z
DTEND:20211125T130000Z
LOCATION:Online
SUMMARY:EXCEL WYKRESY
DESCRIPTION:EXCEL WYKRESY
END:VEVENT
END:VCALENDAR
