BEGIN:VCALENDAR
VERSION:2.0
PRODID:-//bonasoft.pl//NONSGML Rozwijanie kompetencji czytelniczych//EN
CALSCALE:GREGORIAN
METHOD:PUBLISH
BEGIN:VEVENT
UID:20260422T061644-426866970uid
DISTAMP:20260422T061644
DTSTART:20211126T120000Z
DTEND:20211126T140000Z
LOCATION:Filia w Nowym Dworze Mazowieckim
SUMMARY:Rozwijanie kompetencji czytelniczych
DESCRIPTION:Rozwijanie kompetencji czytelniczych
END:VEVENT
END:VCALENDAR
