BEGIN:VCALENDAR
VERSION:2.0
PRODID:-//bonasoft.pl//NONSGML Spotkanie Sieci Współpracy i Samokształcenia Bibliotekarzy//EN
CALSCALE:GREGORIAN
METHOD:PUBLISH
BEGIN:VEVENT
UID:20260422T043815-976682140uid
DISTAMP:20260422T043815
DTSTART:20211214T090000Z
DTEND:20211214T113000Z
LOCATION:Stacjonarnie
SUMMARY:Spotkanie Sieci Współpracy i Samokształcenia Bibliotekarzy
DESCRIPTION:Spotkanie Sieci Współpracy i Samokształcenia Bibliotekarzy
END:VEVENT
END:VCALENDAR
