BEGIN:VCALENDAR
VERSION:2.0
PRODID:-//bonasoft.pl//NONSGML Jak uczyć dzieci skutecznej komunikacji? Warsztaty dot. gry “Efo”//EN
CALSCALE:GREGORIAN
METHOD:PUBLISH
BEGIN:VEVENT
UID:20260421T213828-764444571uid
DISTAMP:20260421T213828
DTSTART:20241004T100000Z
DTEND:20241004T120000Z
LOCATION:Pedagogiczna Biblioteka Wojewódzka im. KEN w Warszawie, ul. Gocławska 4, sala konferencyjna nr 320, II p.
SUMMARY:Jak uczyć dzieci skutecznej komunikacji? Warsztaty dot. gry “Efo”
DESCRIPTION:
END:VEVENT
END:VCALENDAR
