BEGIN:VCALENDAR
VERSION:2.0
PRODID:-//bonasoft.pl//NONSGML ODWOŁANE! O szczęściu czule i bez znieczulenia – motyw samorealizacji  i szczęścia w literaturze  dla dzieci i młodzieży//EN
CALSCALE:GREGORIAN
METHOD:PUBLISH
BEGIN:VEVENT
UID:20260421T222907-2104430196uid
DISTAMP:20260421T222907
DTSTART:20241002T080000Z
DTEND:20241002T120000Z
LOCATION:Pedagogiczna Biblioteka Wojewódzka im. KEN w Warszawie, ul. Gocławska 4, sala konferencyjna nr 320, II p.
SUMMARY:ODWOŁANE! O szczęściu czule i bez znieczulenia – motyw samorealizacji  i szczęścia w literaturze  dla dzieci i młodzieży
DESCRIPTION:
END:VEVENT
END:VCALENDAR
