BEGIN:VCALENDAR
VERSION:2.0
PRODID:-//bonasoft.pl//NONSGML Story Jumper – aplikacja do tworzenia elektronicznych książeczek//EN
CALSCALE:GREGORIAN
METHOD:PUBLISH
BEGIN:VEVENT
UID:20260421T213813-895629326uid
DISTAMP:20260421T213813
DTSTART:20241008T080000Z
DTEND:20241008T100000Z
LOCATION:Pedagogiczna Biblioteka Wojewódzka im. KEN w Warszawie, ul. Gocławska 4, sala nr 213, I p.
SUMMARY:Story Jumper – aplikacja do tworzenia elektronicznych książeczek
DESCRIPTION:
END:VEVENT
END:VCALENDAR
