BEGIN:VCALENDAR
VERSION:2.0
PRODID:-//bonasoft.pl//NONSGML Wykorzystanie elementów czytania wrażeniowego w pracy z dzieckiem w wieku przedszkolnym//EN
CALSCALE:GREGORIAN
METHOD:PUBLISH
BEGIN:VEVENT
UID:20260421T215127-1097445856uid
DISTAMP:20260421T215127
DTSTART:20241009T100000Z
DTEND:20241009T130000Z
LOCATION:Pedagogiczna Biblioteka Wojewódzka im. KEN w Warszawie, ul. Gocławska 4, sala konferencyjna nr 320, II p.
SUMMARY:Wykorzystanie elementów czytania wrażeniowego w pracy z dzieckiem w wieku przedszkolnym
DESCRIPTION:
END:VEVENT
END:VCALENDAR
