BEGIN:VCALENDAR
VERSION:2.0
PRODID:-//bonasoft.pl//NONSGML Inna Bajka – Techniki plastyczne w pracy twórczej z dzieckiem//EN
CALSCALE:GREGORIAN
METHOD:PUBLISH
BEGIN:VEVENT
UID:20260421T214109-1648474109uid
DISTAMP:20260421T214109
DTSTART:20241010T080000Z
DTEND:20241010T110000Z
LOCATION:Pedagogiczna Biblioteka Wojewódzka im. KEN w Warszawie, ul. Gocławska 4, sala konferencyjna nr 320, II p.
SUMMARY:Inna Bajka – Techniki plastyczne w pracy twórczej z dzieckiem
DESCRIPTION:
END:VEVENT
END:VCALENDAR
