BEGIN:VCALENDAR
VERSION:2.0
PRODID:-//bonasoft.pl//NONSGML Co mówią do nas zwierzęta – przegląd literatury biblioterapeutycznej//EN
CALSCALE:GREGORIAN
METHOD:PUBLISH
BEGIN:VEVENT
UID:20260421T214841-713378477uid
DISTAMP:20260421T214841
DTSTART:20241011T080000Z
DTEND:20241011T120000Z
LOCATION:Pedagogiczna Biblioteka Wojewódzka im. KEN w Warszawie, ul. Gocławska 4, sala konferencyjna nr 320, II p.
SUMMARY:Co mówią do nas zwierzęta – przegląd literatury biblioterapeutycznej
DESCRIPTION:
END:VEVENT
END:VCALENDAR
