BEGIN:VCALENDAR
VERSION:2.0
PRODID:-//bonasoft.pl//NONSGML LearningApps krok po kroku – webinar dla wszystkich zainteresowanych nauczycieli//EN
CALSCALE:GREGORIAN
METHOD:PUBLISH
BEGIN:VEVENT
UID:20260421T231354-770271825uid
DISTAMP:20260421T231354
DTSTART:20241015T100000Z
DTEND:20241015T113000Z
LOCATION:online
SUMMARY:LearningApps krok po kroku – webinar dla wszystkich zainteresowanych nauczycieli
DESCRIPTION:
END:VEVENT
END:VCALENDAR
