BEGIN:VCALENDAR
VERSION:2.0
PRODID:-//bonasoft.pl//NONSGML Jak dbać o zbiory biblioteczne. Zabezpieczenie-ochrona-konserwacja//EN
CALSCALE:GREGORIAN
METHOD:PUBLISH
BEGIN:VEVENT
UID:20260421T224554-1739772462uid
DISTAMP:20260421T224554
DTSTART:20241021T080000Z
DTEND:20241021T110000Z
LOCATION:Pedagogiczna Biblioteka Wojewódzka im. KEN w Warszawie, ul. Gocławska 4, sala nr 212, I p.
SUMMARY:Jak dbać o zbiory biblioteczne. Zabezpieczenie-ochrona-konserwacja
DESCRIPTION:
END:VEVENT
END:VCALENDAR
