BEGIN:VCALENDAR
VERSION:2.0
PRODID:-//bonasoft.pl//NONSGML Opracowanie formalne – nowa metodyka BN – webinar dla bibliotekarzy//EN
CALSCALE:GREGORIAN
METHOD:PUBLISH
BEGIN:VEVENT
UID:20260421T204101-1044229908uid
DISTAMP:20260421T204101
DTSTART:20241024T100000Z
DTEND:20241024T120000Z
LOCATION:online
SUMMARY:Opracowanie formalne – nowa metodyka BN – webinar dla bibliotekarzy
DESCRIPTION:
END:VEVENT
END:VCALENDAR
