BEGIN:VCALENDAR
VERSION:2.0
PRODID:-//bonasoft.pl//NONSGML ODWOŁANE! Haftowany świat i jego terapeutyczna moc – warsztat dla nauczycieli//EN
CALSCALE:GREGORIAN
METHOD:PUBLISH
BEGIN:VEVENT
UID:20260422T012915-1277259995uid
DISTAMP:20260422T012915
DTSTART:20241017T080000Z
DTEND:20241017T120000Z
LOCATION:Pedagogiczna Biblioteka Wojewódzka im. KEN w Warszawie, ul. Gocławska 4, sala 212, I p.
SUMMARY:ODWOŁANE! Haftowany świat i jego terapeutyczna moc – warsztat dla nauczycieli
DESCRIPTION:
END:VEVENT
END:VCALENDAR
