BEGIN:VCALENDAR
VERSION:2.0
PRODID:-//bonasoft.pl//NONSGML ODWOŁANE! Spotkanie z ks. Arturem Aleksiejukiem i Elżbietą Aleksiejuk//EN
CALSCALE:GREGORIAN
METHOD:PUBLISH
BEGIN:VEVENT
UID:20260421T214841-2023943320uid
DISTAMP:20260421T214841
DTSTART:20241018T080000Z
DTEND:20241018T100000Z
LOCATION:Pedagogiczna Biblioteka Wojewódzka im. KEN w Warszawie, ul. Gocławska 4, sala konferencyjna nr 320, II p.
SUMMARY:ODWOŁANE! Spotkanie z ks. Arturem Aleksiejukiem i Elżbietą Aleksiejuk
DESCRIPTION:
END:VEVENT
END:VCALENDAR
