BEGIN:VCALENDAR
VERSION:2.0
PRODID:-//bonasoft.pl//NONSGML Turbodoładowane lekcje z Nearpod – Jak wprowadzić dynamikę i interakcję do każdego przedmiotu//EN
CALSCALE:GREGORIAN
METHOD:PUBLISH
BEGIN:VEVENT
UID:20260421T194837-2130436080uid
DISTAMP:20260421T194837
DTSTART:20241119T110000Z
DTEND:20241119T123000Z
LOCATION:online
SUMMARY:Turbodoładowane lekcje z Nearpod – Jak wprowadzić dynamikę i interakcję do każdego przedmiotu
DESCRIPTION:
END:VEVENT
END:VCALENDAR
