BEGIN:VCALENDAR
VERSION:2.0
PRODID:-//bonasoft.pl//NONSGML Spotkanie autorskie z p. Moniką Oworuszko i serią “Walenty i Spółka. Kryminał dietetyczny”//EN
CALSCALE:GREGORIAN
METHOD:PUBLISH
BEGIN:VEVENT
UID:20260421T194908-1432420952uid
DISTAMP:20260421T194908
DTSTART:20241113T083000Z
DTEND:20241113T120000Z
LOCATION:Pedagogiczna Biblioteka Wojewódzka im. KEN w Warszawie, ul. Gocławska 4, sala konferencyjna nr 320, II p.
SUMMARY:Spotkanie autorskie z p. Moniką Oworuszko i serią “Walenty i Spółka. Kryminał dietetyczny”
DESCRIPTION:
END:VEVENT
END:VCALENDAR
