BEGIN:VCALENDAR
VERSION:2.0
PRODID:-//bonasoft.pl//NONSGML Zaczaruj swoje lekcje z „Magic school AI’s”//EN
CALSCALE:GREGORIAN
METHOD:PUBLISH
BEGIN:VEVENT
UID:20260421T183733-1607446285uid
DISTAMP:20260421T183733
DTSTART:20241126T110000Z
DTEND:20241126T123000Z
LOCATION:Pedagogiczna Biblioteka Wojewódzka im. KEN w Warszawie, ul. Gocławska 4, sala nr 213, I p.
SUMMARY:Zaczaruj swoje lekcje z „Magic school AI’s”
DESCRIPTION:
END:VEVENT
END:VCALENDAR
