BEGIN:VCALENDAR
VERSION:2.0
PRODID:-//bonasoft.pl//NONSGML Uważność w edukacji – konferencja on-line we współpracy z Wydawnictwem Mamania//EN
CALSCALE:GREGORIAN
METHOD:PUBLISH
BEGIN:VEVENT
UID:20260421T184435-1497974901uid
DISTAMP:20260421T184435
DTSTART:20241122T080000Z
DTEND:20241122T110000Z
LOCATION:online
SUMMARY:Uważność w edukacji – konferencja on-line we współpracy z Wydawnictwem Mamania
DESCRIPTION:
END:VEVENT
END:VCALENDAR
