BEGIN:VCALENDAR
VERSION:2.0
PRODID:-//bonasoft.pl//NONSGML Końcówka języka do świadomości wnika – feminatywy w roli głównej – webinar//EN
CALSCALE:GREGORIAN
METHOD:PUBLISH
BEGIN:VEVENT
UID:20260421T170622-2146509963uid
DISTAMP:20260421T170622
DTSTART:20250128T110000Z
DTEND:20250128T123000Z
LOCATION:online
SUMMARY:Końcówka języka do świadomości wnika – feminatywy w roli głównej – webinar
DESCRIPTION:
END:VEVENT
END:VCALENDAR
