BEGIN:VCALENDAR
VERSION:2.0
PRODID:-//bonasoft.pl//NONSGML Teatrzyk kamishibai w pracy z małym dzieckiem//EN
CALSCALE:GREGORIAN
METHOD:PUBLISH
BEGIN:VEVENT
UID:20260421T170224-948365794uid
DISTAMP:20260421T170224
DTSTART:20250306T080000Z
DTEND:20250306T110000Z
LOCATION:Pedagogiczna Biblioteka Wojewódzka im. KEN w Warszawie, ul. Gocławska 4, sala nr 212, I p.
SUMMARY:Teatrzyk kamishibai w pracy z małym dzieckiem
DESCRIPTION:
END:VEVENT
END:VCALENDAR
