BEGIN:VCALENDAR
VERSION:2.0
PRODID:-//bonasoft.pl//NONSGML Opowieści, które zmieniają życie. Biblioterapia w XXI wieku – konferencja informacyjno-metodyczna//EN
CALSCALE:GREGORIAN
METHOD:PUBLISH
BEGIN:VEVENT
UID:20260421T151839-983727260uid
DISTAMP:20260421T151839
DTSTART:20250312T083000Z
DTEND:20250312T133000Z
LOCATION:Pedagogiczna Biblioteka Wojewódzka im. KEN w Warszawie, ul. Gocławska 4, sala konferencyjna nr 320, II p.
SUMMARY:Opowieści, które zmieniają życie. Biblioterapia w XXI wieku – konferencja informacyjno-metodyczna
DESCRIPTION:
END:VEVENT
END:VCALENDAR
