BEGIN:VCALENDAR
VERSION:2.0
PRODID:-//bonasoft.pl//NONSGML Asertywne przyjmowanie krytyki – webinar//EN
CALSCALE:GREGORIAN
METHOD:PUBLISH
BEGIN:VEVENT
UID:20260421T151221-1276685406uid
DISTAMP:20260421T151221
DTSTART:20250317T100000Z
DTEND:20250317T113000Z
LOCATION:online
SUMMARY:Asertywne przyjmowanie krytyki – webinar
DESCRIPTION:
END:VEVENT
END:VCALENDAR
