BEGIN:VCALENDAR
VERSION:2.0
PRODID:-//bonasoft.pl//NONSGML Excel wykresy przydatne dla nauczycieli//EN
CALSCALE:GREGORIAN
METHOD:PUBLISH
BEGIN:VEVENT
UID:20260421T151853-357169573uid
DISTAMP:20260421T151853
DTSTART:20250327T110000Z
DTEND:20250327T130000Z
LOCATION:online
SUMMARY:Excel wykresy przydatne dla nauczycieli
DESCRIPTION:
END:VEVENT
END:VCALENDAR
