BEGIN:VCALENDAR
VERSION:2.0
PRODID:-//bonasoft.pl//NONSGML AI w Twojej klasie. Technologia, która odciąża, a nie zastępuje//EN
CALSCALE:GREGORIAN
METHOD:PUBLISH
BEGIN:VEVENT
UID:20260421T163452-659647203uid
DISTAMP:20260421T163452
DTSTART:20250227T110000Z
DTEND:20250227T123000Z
LOCATION:online
SUMMARY:AI w Twojej klasie. Technologia, która odciąża, a nie zastępuje
DESCRIPTION:
END:VEVENT
END:VCALENDAR
