BEGIN:VCALENDAR
VERSION:2.0
PRODID:-//bonasoft.pl//NONSGML Canva od podstaw – warsztaty praktyczne//EN
CALSCALE:GREGORIAN
METHOD:PUBLISH
BEGIN:VEVENT
UID:20260421T131910-970387077uid
DISTAMP:20260421T131910
DTSTART:20250415T080000Z
DTEND:20250415T110000Z
LOCATION:Pedagogiczna Biblioteka Wojewódzka im. KEN w Warszawie, ul. Gocławska 4, sala nr 213, I p.
SUMMARY:Canva od podstaw – warsztaty praktyczne
DESCRIPTION:
END:VEVENT
END:VCALENDAR
